BEGIN:VCALENDAR
VERSION:2.0
PRODID:-//Bergh Auction Service &amp; Owen Auction Service - ECPv6.15.20//NONSGML v1.0//EN
CALSCALE:GREGORIAN
METHOD:PUBLISH
X-WR-CALNAME:Bergh Auction Service &amp; Owen Auction Service
X-ORIGINAL-URL:https://www.berghandowenauctions.com
X-WR-CALDESC:Events for Bergh Auction Service &amp; Owen Auction Service
REFRESH-INTERVAL;VALUE=DURATION:PT1H
X-Robots-Tag:noindex
X-PUBLISHED-TTL:PT1H
BEGIN:VTIMEZONE
TZID:America/North_Dakota/Beulah
BEGIN:DAYLIGHT
TZOFFSETFROM:-0600
TZOFFSETTO:-0500
TZNAME:CDT
DTSTART:20250309T080000
END:DAYLIGHT
BEGIN:STANDARD
TZOFFSETFROM:-0500
TZOFFSETTO:-0600
TZNAME:CST
DTSTART:20251102T070000
END:STANDARD
BEGIN:DAYLIGHT
TZOFFSETFROM:-0600
TZOFFSETTO:-0500
TZNAME:CDT
DTSTART:20260308T080000
END:DAYLIGHT
BEGIN:STANDARD
TZOFFSETFROM:-0500
TZOFFSETTO:-0600
TZNAME:CST
DTSTART:20261101T070000
END:STANDARD
BEGIN:DAYLIGHT
TZOFFSETFROM:-0600
TZOFFSETTO:-0500
TZNAME:CDT
DTSTART:20270314T080000
END:DAYLIGHT
BEGIN:STANDARD
TZOFFSETFROM:-0500
TZOFFSETTO:-0600
TZNAME:CST
DTSTART:20271107T070000
END:STANDARD
END:VTIMEZONE
BEGIN:VEVENT
DTSTART;TZID=America/North_Dakota/Beulah:20260418T090000
DTEND;TZID=America/North_Dakota/Beulah:20260418T233000
DTSTAMP:20260420T031114
CREATED:20260221T171558Z
LAST-MODIFIED:20260411T021435Z
UID:10000077-1776502800-1776555000@www.berghandowenauctions.com
SUMMARY:FIREARMS\, SPORTING GOODS\,  ANTIQUES\, COLLECTIBLES\, YARD EQUIPMENT & TOOLS  AUCTION
DESCRIPTION:SATURDAY\, APRIL 18\, 2026       Sale Time: 9 A.M.  \nCodington County Extension Complex – South Entrance\n1910 West Kemp\, Watertown\, SD \n Lunch Available \nAUCTIONEERS’ NOTE: Don has always been a true outdoors man!  His gun collection is well cared for and high quality.  Betty was always by Don’s side – fishing\, trapping & collecting.  Betty was a seamstress\, loved knitting and doing arts & crafts.  This auction offers something for everyone-antiques/collectibles\, firearms\, fishing & yard equipment\, tools\,  & household!    Don’t miss this auction – both arenas will be full.  You won’t be disappointed!  \nClick here for Additional Photos \nANTIQUES\,  COLLECTIBLES & HOUSEHOLD\nRedwing Crocks\, 3\, 4\, 5\, 6\, 10 Gallons – Redwing Water Cooler\, 5 Gallons\, No Lid – Redwing Butter Churn – Pottery Canister Set – Dazey Glass Butter Churn #30 – Several Train Sets Including Marx Big Rail Work Train\, HO Electric Train Set\, Little Joe N Scale & Bachman E-Z Track System – Tonka Toys – Toy Caterpillar\, Bulldozer & Truck Collectibles – Arrowhead Collection & Artifacts – Bone Tools – Lots of Marbles – Cream Cans – Kerosene & Oil Lamps – Cast Iron Seat – Rock Tables w/Cut Rocks – Wooden Tokens – 2 Edison Record Players – Records – Vintage GE Radio – Walking Sticks – Watch Fobs –  Barbie Doll – Singer Treadle Sewing Machine Frame –  Cast Iron Fry Pans & Krumkake Griddles – Vintage Christmas Decor – Depression Glass – Lots Collectible Wildlife Figurines – Wildlife Plates – Glass Paper Weights – Beer Signs Including Hamm’s & Miller Beer Steins – Curio Cabinet – Frigidaire Upright Freezer – LT Washer\, White\, Like New – Whirlpool Dryer\, White – Kitchen Aid Mixer – Bakeware – Miscellaneous Household Items – Baby Lock Ellure Plus Embroidery Machine & Accessories – Table Lamps – Seiko Wall Clock – Cabela’s Dehydrator – 45 RPM Records – 8 Track Tapes – Office Supplies – Display Cases – Walkers – Plus More.  \nGUNS & SPORTING EQUIPMENT\nGUNS TO BE SOLD AT APPROXIMATELY 1:00 P.M. \nAll Guns to be Cleared Through An FFL Dealer on Site  \n23 FIREARMS Including Winchester Model 12\, Pump\, 12 Ga.\, Super X 3”\, Rib Barrel – Ruger Mark II M77 w/Leopold Scope\, Bolt\, 25-06 REM – Sile O/U\, 28 Ga. – Winchester Nickel Steel Model 12\, Pump\, 16 Ga. – Winchester Model 9422\, Lever\, 22 Cal. – Benelli Montefeltro\, Semi-Auto\, 20 Ga.\, New In Case – Higgins Model 25\, Semi-Auto\, 22 Cal. – Beretta Xtrema 2 A39\, Semi-Auto\, 12 Ga.\, Camo – Henry Model 17\, Lever\, 17 MM\, w/Swift Scope – Winchester Model 9422\, Lever\, 22 Cal.\, New in Box – Winchester Model 61\, Pump\, 22 Cal. – Benelli Super Black Eagle\, Semi-Auto\, 12 Ga.\, 2 3/4”-3 ½” – Remington Model 700 BDL Custom Deluxe\, Bolt\, 17 REM\, Never Fired – Marlin Model 25\, Bolt\, 22 Cal.\, Never Fired – Mossberg (Mossberg Int.) Silver Reserve\, O/U\, 20 Ga. – Winchester Model 9422M\, Lever\, 22 Cal. Mag\, New in Box – Winchester Model 70\, Bolt\, 7 MM\, w/Leopold Scope – Winchester Model 70\, Bolt\, 257 Roberts\, w/Nikon Prostaff Scope – Winchester Model 70\, Pre 64\, Bolt\, 338 WIN\, w/Leopold Scope\, Never Fired – Smith & Wesson 44 Mag\, Revolver w/Case – Smith & Wesson Model 741\, 22 Mag Revolver\, New in Box\, Never Fired – Ruger New Model Single 6\, 22 Cal. Revolver – 6 Gun Cabinet – Lots of Ammo – Wood Ammo Boxes – Holster – Framed Federal Duck Stamp Collection\, 1934-2004 – Lots of Knives Including Remington\, Browning & Uncle Henry – Fishing Rods & Tackle – Ice Fishing Rods – Jiffy Ice Auger – Hand Ice Augers – Minnkota Trolling Motor – Johnson 5 ½ HP Boat Motor – Elk Horns – Rabo Ducks – Life Size Series Mallard Decoys – Full Body Mallard Decoys – Muskrat Traps\, 110 – Fox Traps\, 1 ½ & 2 – Beaver & #330 Conibear – Hide Stretchers – Live Traps – Insulated Clothing – Boots – Gloves – Caps – Lockers – \nJDX 485 Riding Mower\, 54” Cut w/Grass Catcher\, Tiller\, Snowblower & Blade\nJohn Wilson & Josh Spies Prints\n8’ x 40’ Storage Container – To Be Moved\nBear Claw 8’ x 10’ Aluminum Trailer  \nYARD\, TOOLS & SHOP EQUIPMENT\nCraftsman Riding Mower\, 46” Cut – Troy Bilt Leaf/Wood Chipper – Troy Bilt Tiller – Delta Pressure Washer – Stihl Weed Whip – Yard Sprayer – Viper Weed Trimmer – Fertilizer Spreader – 2 Aluminum Sleds – Wheel Barrow – Weber Grill – Garden Hoses – Flower Pots – Garbage Cans – Miscellaneous Yard Equipment – Snap-On Tool Box – Craftsman Air Compressor- Craftsman Bench Saw – Dremel Saw – Delta Shop Master Table Saw – DeWalt Chop Saw – Delta Bench Band Saw – CalHawk 12 Speed Drill Press – TJL 5 Speed Bench Drill Press – Sioux 6” Ball Bearing Grinder – Delta 5” Bench Grinder – Router Sharpener – Craftsman Router – Caldwell Load Sled – Hammers – Ratchets – Screwdrivers – Socket Sets – Lots of Miscellaneous Hand Tools – Warner Step Ladders – Pus More. \nVisit www.berghandowenauctions.com for listing & 190± photos  \nDON HARPER & BETTY HARPER ESTATE  \n\n\n\n		\n				\n						\n			\n								\n			\n		\n							\n			\n				\n						\n			\n								\n			\n		\n							\n			\n				\n						\n			\n								\n			\n		\n							\n			\n				\n						\n			\n								\n			\n		\n							\n			\n				\n						\n			\n								\n			\n		\n							\n			\n				\n						\n			\n								\n			\n		\n							\n			\n				\n						\n			\n								\n			\n		\n							\n			\n				\n						\n			\n								\n			\n		\n							\n			\n				\n						\n			\n								\n			\n		\n							\n			\n				\n						\n			\n								\n			\n		\n							\n			\n	\n	\n\n	\n		\n			\nTERMS: Cash or Bankable Check.  No property to be removed until settled for.  Everything sold “As Is”.  Not responsible for errors or omissions in listing.  Not responsible for theft or accidents.  Announcements made day of sale take precedence over all written material.  SD Sales Tax Applies.  \nBERGH AUCTION SERVICE                      OWEN AUCTION SERVICE\nMike Bergh – SDRE #266                           Randy Owen – SDRE #304\nberghauctionservice@itctel.com            owenauctions@iw.net\n(605) 881-1652                                             (605) 881-5377\nJoe Tesch (605)880-1944\n \n                             \n 
URL:https://www.berghandowenauctions.com/auction/firearms-sporting-goods-antiques-collectibles-yard-equipment-tools-auction/
LOCATION:Watertown\, SD
CATEGORIES:Minnesota,North Dakota,South Dakota
ATTACH;FMTTYPE=image/jpeg:https://www.berghandowenauctions.com/wp-content/uploads/2026/02/Guns-2-scaled.jpg
END:VEVENT
END:VCALENDAR